BEGIN:VCALENDAR
VERSION:2.0
PRODID:-//Iowa Laborers Education &amp; Training Fund - ECPv6.15.20//NONSGML v1.0//EN
CALSCALE:GREGORIAN
METHOD:PUBLISH
X-WR-CALNAME:Iowa Laborers Education &amp; Training Fund
X-ORIGINAL-URL:https://iowalaborers.com
X-WR-CALDESC:Events for Iowa Laborers Education &amp; Training Fund
REFRESH-INTERVAL;VALUE=DURATION:PT1H
X-Robots-Tag:noindex
X-PUBLISHED-TTL:PT1H
BEGIN:VTIMEZONE
TZID:America/Chicago
BEGIN:DAYLIGHT
TZOFFSETFROM:-0600
TZOFFSETTO:-0500
TZNAME:CDT
DTSTART:20250309T080000
END:DAYLIGHT
BEGIN:STANDARD
TZOFFSETFROM:-0500
TZOFFSETTO:-0600
TZNAME:CST
DTSTART:20251102T070000
END:STANDARD
BEGIN:DAYLIGHT
TZOFFSETFROM:-0600
TZOFFSETTO:-0500
TZNAME:CDT
DTSTART:20260308T080000
END:DAYLIGHT
BEGIN:STANDARD
TZOFFSETFROM:-0500
TZOFFSETTO:-0600
TZNAME:CST
DTSTART:20261101T070000
END:STANDARD
BEGIN:DAYLIGHT
TZOFFSETFROM:-0600
TZOFFSETTO:-0500
TZNAME:CDT
DTSTART:20270314T080000
END:DAYLIGHT
BEGIN:STANDARD
TZOFFSETFROM:-0500
TZOFFSETTO:-0600
TZNAME:CST
DTSTART:20271107T070000
END:STANDARD
BEGIN:DAYLIGHT
TZOFFSETFROM:-0600
TZOFFSETTO:-0500
TZNAME:CDT
DTSTART:20280312T080000
END:DAYLIGHT
BEGIN:STANDARD
TZOFFSETFROM:-0500
TZOFFSETTO:-0600
TZNAME:CST
DTSTART:20281105T070000
END:STANDARD
BEGIN:DAYLIGHT
TZOFFSETFROM:-0600
TZOFFSETTO:-0500
TZNAME:CDT
DTSTART:20290311T080000
END:DAYLIGHT
BEGIN:STANDARD
TZOFFSETFROM:-0500
TZOFFSETTO:-0600
TZNAME:CST
DTSTART:20291104T070000
END:STANDARD
END:VTIMEZONE
BEGIN:VEVENT
DTSTART;TZID=America/Chicago:20261102T173000
DTEND;TZID=America/Chicago:20261102T190000
DTSTAMP:20260421T122440
CREATED:20250923T143147Z
LAST-MODIFIED:20250923T143147Z
UID:10000687-1793640600-1793646000@iowalaborers.com
SUMMARY:Local 43 Union Meeting
DESCRIPTION:
URL:https://iowalaborers.com/event/local-43-union-meeting-12/2026-11-02/
LOCATION:Cedar Rapids\, 816 1st Ave NW\, Suite B\, Cedar Rapids\, Iowa\, 52405
END:VEVENT
BEGIN:VEVENT
DTSTART;TZID=America/Chicago:20261105T180000
DTEND;TZID=America/Chicago:20261105T193000
DTSTAMP:20260421T122440
CREATED:20250502T144721Z
LAST-MODIFIED:20251218T233321Z
UID:10000606-1793901600-1793907000@iowalaborers.com
SUMMARY:Local 177 Union Meeting
DESCRIPTION:
URL:https://iowalaborers.com/event/local-177-union-meeting-5/2026-11-05/
LOCATION:Des Moines\, 3400 E. Euclid\, Suite A\, Des Moines\, Iowa\, 50317\, United States
END:VEVENT
BEGIN:VEVENT
DTSTART;TZID=America/Chicago:20261203T180000
DTEND;TZID=America/Chicago:20261203T193000
DTSTAMP:20260421T122440
CREATED:20250502T144721Z
LAST-MODIFIED:20251218T233321Z
UID:10000607-1796320800-1796326200@iowalaborers.com
SUMMARY:Local 177 Union Meeting
DESCRIPTION:
URL:https://iowalaborers.com/event/local-177-union-meeting-5/2026-12-03/
LOCATION:Des Moines\, 3400 E. Euclid\, Suite A\, Des Moines\, Iowa\, 50317\, United States
END:VEVENT
BEGIN:VEVENT
DTSTART;TZID=America/Chicago:20261207T173000
DTEND;TZID=America/Chicago:20261207T190000
DTSTAMP:20260421T122440
CREATED:20250923T143147Z
LAST-MODIFIED:20250923T143147Z
UID:10000688-1796664600-1796670000@iowalaborers.com
SUMMARY:Local 43 Union Meeting
DESCRIPTION:
URL:https://iowalaborers.com/event/local-43-union-meeting-12/2026-12-07/
LOCATION:Cedar Rapids\, 816 1st Ave NW\, Suite B\, Cedar Rapids\, Iowa\, 52405
END:VEVENT
BEGIN:VEVENT
DTSTART;TZID=America/Chicago:20270104T173000
DTEND;TZID=America/Chicago:20270104T190000
DTSTAMP:20260421T122440
CREATED:20250923T143147Z
LAST-MODIFIED:20250923T143147Z
UID:10000689-1799083800-1799089200@iowalaborers.com
SUMMARY:Local 43 Union Meeting
DESCRIPTION:
URL:https://iowalaborers.com/event/local-43-union-meeting-12/2027-01-04/
LOCATION:Cedar Rapids\, 816 1st Ave NW\, Suite B\, Cedar Rapids\, Iowa\, 52405
END:VEVENT
BEGIN:VEVENT
DTSTART;TZID=America/Chicago:20270107T180000
DTEND;TZID=America/Chicago:20270107T193000
DTSTAMP:20260421T122440
CREATED:20250502T144721Z
LAST-MODIFIED:20251218T233321Z
UID:10000608-1799344800-1799350200@iowalaborers.com
SUMMARY:Local 177 Union Meeting
DESCRIPTION:
URL:https://iowalaborers.com/event/local-177-union-meeting-5/2027-01-07/
LOCATION:Des Moines\, 3400 E. Euclid\, Suite A\, Des Moines\, Iowa\, 50317\, United States
END:VEVENT
BEGIN:VEVENT
DTSTART;TZID=America/Chicago:20270201T173000
DTEND;TZID=America/Chicago:20270201T190000
DTSTAMP:20260421T122440
CREATED:20250923T143147Z
LAST-MODIFIED:20250923T143147Z
UID:10000690-1801503000-1801508400@iowalaborers.com
SUMMARY:Local 43 Union Meeting
DESCRIPTION:
URL:https://iowalaborers.com/event/local-43-union-meeting-12/2027-02-01/
LOCATION:Cedar Rapids\, 816 1st Ave NW\, Suite B\, Cedar Rapids\, Iowa\, 52405
END:VEVENT
BEGIN:VEVENT
DTSTART;TZID=America/Chicago:20270204T180000
DTEND;TZID=America/Chicago:20270204T193000
DTSTAMP:20260421T122440
CREATED:20250502T144721Z
LAST-MODIFIED:20251218T233321Z
UID:10000609-1801764000-1801769400@iowalaborers.com
SUMMARY:Local 177 Union Meeting
DESCRIPTION:
URL:https://iowalaborers.com/event/local-177-union-meeting-5/2027-02-04/
LOCATION:Des Moines\, 3400 E. Euclid\, Suite A\, Des Moines\, Iowa\, 50317\, United States
END:VEVENT
BEGIN:VEVENT
DTSTART;TZID=America/Chicago:20270301T173000
DTEND;TZID=America/Chicago:20270301T190000
DTSTAMP:20260421T122440
CREATED:20250923T143147Z
LAST-MODIFIED:20250923T143147Z
UID:10000691-1803922200-1803927600@iowalaborers.com
SUMMARY:Local 43 Union Meeting
DESCRIPTION:
URL:https://iowalaborers.com/event/local-43-union-meeting-12/2027-03-01/
LOCATION:Cedar Rapids\, 816 1st Ave NW\, Suite B\, Cedar Rapids\, Iowa\, 52405
END:VEVENT
BEGIN:VEVENT
DTSTART;TZID=America/Chicago:20270304T180000
DTEND;TZID=America/Chicago:20270304T193000
DTSTAMP:20260421T122440
CREATED:20250502T144721Z
LAST-MODIFIED:20251218T233321Z
UID:10000610-1804183200-1804188600@iowalaborers.com
SUMMARY:Local 177 Union Meeting
DESCRIPTION:
URL:https://iowalaborers.com/event/local-177-union-meeting-5/2027-03-04/
LOCATION:Des Moines\, 3400 E. Euclid\, Suite A\, Des Moines\, Iowa\, 50317\, United States
END:VEVENT
BEGIN:VEVENT
DTSTART;TZID=America/Chicago:20270401T180000
DTEND;TZID=America/Chicago:20270401T193000
DTSTAMP:20260421T122440
CREATED:20250502T144721Z
LAST-MODIFIED:20251218T233321Z
UID:10001027-1806602400-1806607800@iowalaborers.com
SUMMARY:Local 177 Union Meeting
DESCRIPTION:
URL:https://iowalaborers.com/event/local-177-union-meeting-5/2027-04-01/
LOCATION:Des Moines\, 3400 E. Euclid\, Suite A\, Des Moines\, Iowa\, 50317\, United States
END:VEVENT
BEGIN:VEVENT
DTSTART;TZID=America/Chicago:20270405T173000
DTEND;TZID=America/Chicago:20270405T190000
DTSTAMP:20260421T122440
CREATED:20250923T143147Z
LAST-MODIFIED:20250923T143147Z
UID:10000692-1806946200-1806951600@iowalaborers.com
SUMMARY:Local 43 Union Meeting
DESCRIPTION:
URL:https://iowalaborers.com/event/local-43-union-meeting-12/2027-04-05/
LOCATION:Cedar Rapids\, 816 1st Ave NW\, Suite B\, Cedar Rapids\, Iowa\, 52405
END:VEVENT
BEGIN:VEVENT
DTSTART;TZID=America/Chicago:20270503T173000
DTEND;TZID=America/Chicago:20270503T190000
DTSTAMP:20260421T122440
CREATED:20250923T143147Z
LAST-MODIFIED:20250923T143147Z
UID:10000693-1809365400-1809370800@iowalaborers.com
SUMMARY:Local 43 Union Meeting
DESCRIPTION:
URL:https://iowalaborers.com/event/local-43-union-meeting-12/2027-05-03/
LOCATION:Cedar Rapids\, 816 1st Ave NW\, Suite B\, Cedar Rapids\, Iowa\, 52405
END:VEVENT
BEGIN:VEVENT
DTSTART;TZID=America/Chicago:20270506T180000
DTEND;TZID=America/Chicago:20270506T193000
DTSTAMP:20260421T122440
CREATED:20250502T144721Z
LAST-MODIFIED:20251218T233321Z
UID:10001028-1809626400-1809631800@iowalaborers.com
SUMMARY:Local 177 Union Meeting
DESCRIPTION:
URL:https://iowalaborers.com/event/local-177-union-meeting-5/2027-05-06/
LOCATION:Des Moines\, 3400 E. Euclid\, Suite A\, Des Moines\, Iowa\, 50317\, United States
END:VEVENT
BEGIN:VEVENT
DTSTART;TZID=America/Chicago:20270603T180000
DTEND;TZID=America/Chicago:20270603T193000
DTSTAMP:20260421T122440
CREATED:20250502T144721Z
LAST-MODIFIED:20251218T233321Z
UID:10001029-1812045600-1812051000@iowalaborers.com
SUMMARY:Local 177 Union Meeting
DESCRIPTION:
URL:https://iowalaborers.com/event/local-177-union-meeting-5/2027-06-03/
LOCATION:Des Moines\, 3400 E. Euclid\, Suite A\, Des Moines\, Iowa\, 50317\, United States
END:VEVENT
BEGIN:VEVENT
DTSTART;TZID=America/Chicago:20270607T173000
DTEND;TZID=America/Chicago:20270607T190000
DTSTAMP:20260421T122440
CREATED:20250923T143147Z
LAST-MODIFIED:20250923T143147Z
UID:10000694-1812389400-1812394800@iowalaborers.com
SUMMARY:Local 43 Union Meeting
DESCRIPTION:
URL:https://iowalaborers.com/event/local-43-union-meeting-12/2027-06-07/
LOCATION:Cedar Rapids\, 816 1st Ave NW\, Suite B\, Cedar Rapids\, Iowa\, 52405
END:VEVENT
BEGIN:VEVENT
DTSTART;TZID=America/Chicago:20270701T180000
DTEND;TZID=America/Chicago:20270701T193000
DTSTAMP:20260421T122440
CREATED:20250502T144721Z
LAST-MODIFIED:20251218T233321Z
UID:10001030-1814464800-1814470200@iowalaborers.com
SUMMARY:Local 177 Union Meeting
DESCRIPTION:
URL:https://iowalaborers.com/event/local-177-union-meeting-5/2027-07-01/
LOCATION:Des Moines\, 3400 E. Euclid\, Suite A\, Des Moines\, Iowa\, 50317\, United States
END:VEVENT
BEGIN:VEVENT
DTSTART;TZID=America/Chicago:20270705T173000
DTEND;TZID=America/Chicago:20270705T190000
DTSTAMP:20260421T122440
CREATED:20250923T143147Z
LAST-MODIFIED:20250923T143147Z
UID:10000695-1814808600-1814814000@iowalaborers.com
SUMMARY:Local 43 Union Meeting
DESCRIPTION:
URL:https://iowalaborers.com/event/local-43-union-meeting-12/2027-07-05/
LOCATION:Cedar Rapids\, 816 1st Ave NW\, Suite B\, Cedar Rapids\, Iowa\, 52405
END:VEVENT
BEGIN:VEVENT
DTSTART;TZID=America/Chicago:20270802T173000
DTEND;TZID=America/Chicago:20270802T190000
DTSTAMP:20260421T122440
CREATED:20250923T143147Z
LAST-MODIFIED:20250923T143147Z
UID:10000696-1817227800-1817233200@iowalaborers.com
SUMMARY:Local 43 Union Meeting
DESCRIPTION:
URL:https://iowalaborers.com/event/local-43-union-meeting-12/2027-08-02/
LOCATION:Cedar Rapids\, 816 1st Ave NW\, Suite B\, Cedar Rapids\, Iowa\, 52405
END:VEVENT
BEGIN:VEVENT
DTSTART;TZID=America/Chicago:20270805T180000
DTEND;TZID=America/Chicago:20270805T193000
DTSTAMP:20260421T122440
CREATED:20250502T144721Z
LAST-MODIFIED:20251218T233321Z
UID:10001031-1817488800-1817494200@iowalaborers.com
SUMMARY:Local 177 Union Meeting
DESCRIPTION:
URL:https://iowalaborers.com/event/local-177-union-meeting-5/2027-08-05/
LOCATION:Des Moines\, 3400 E. Euclid\, Suite A\, Des Moines\, Iowa\, 50317\, United States
END:VEVENT
BEGIN:VEVENT
DTSTART;TZID=America/Chicago:20270902T180000
DTEND;TZID=America/Chicago:20270902T193000
DTSTAMP:20260421T122440
CREATED:20250502T144721Z
LAST-MODIFIED:20251218T233321Z
UID:10001032-1819908000-1819913400@iowalaborers.com
SUMMARY:Local 177 Union Meeting
DESCRIPTION:
URL:https://iowalaborers.com/event/local-177-union-meeting-5/2027-09-02/
LOCATION:Des Moines\, 3400 E. Euclid\, Suite A\, Des Moines\, Iowa\, 50317\, United States
END:VEVENT
BEGIN:VEVENT
DTSTART;TZID=America/Chicago:20270906T173000
DTEND;TZID=America/Chicago:20270906T190000
DTSTAMP:20260421T122440
CREATED:20250923T143147Z
LAST-MODIFIED:20250923T143147Z
UID:10000697-1820251800-1820257200@iowalaborers.com
SUMMARY:Local 43 Union Meeting
DESCRIPTION:
URL:https://iowalaborers.com/event/local-43-union-meeting-12/2027-09-06/
LOCATION:Cedar Rapids\, 816 1st Ave NW\, Suite B\, Cedar Rapids\, Iowa\, 52405
END:VEVENT
BEGIN:VEVENT
DTSTART;TZID=America/Chicago:20271004T173000
DTEND;TZID=America/Chicago:20271004T190000
DTSTAMP:20260421T122440
CREATED:20250923T143147Z
LAST-MODIFIED:20250923T143147Z
UID:10000698-1822671000-1822676400@iowalaborers.com
SUMMARY:Local 43 Union Meeting
DESCRIPTION:
URL:https://iowalaborers.com/event/local-43-union-meeting-12/2027-10-04/
LOCATION:Cedar Rapids\, 816 1st Ave NW\, Suite B\, Cedar Rapids\, Iowa\, 52405
END:VEVENT
BEGIN:VEVENT
DTSTART;TZID=America/Chicago:20271007T180000
DTEND;TZID=America/Chicago:20271007T193000
DTSTAMP:20260421T122440
CREATED:20250502T144721Z
LAST-MODIFIED:20251218T233321Z
UID:10001033-1822932000-1822937400@iowalaborers.com
SUMMARY:Local 177 Union Meeting
DESCRIPTION:
URL:https://iowalaborers.com/event/local-177-union-meeting-5/2027-10-07/
LOCATION:Des Moines\, 3400 E. Euclid\, Suite A\, Des Moines\, Iowa\, 50317\, United States
END:VEVENT
BEGIN:VEVENT
DTSTART;TZID=America/Chicago:20271101T173000
DTEND;TZID=America/Chicago:20271101T190000
DTSTAMP:20260421T122440
CREATED:20250923T143147Z
LAST-MODIFIED:20250923T143147Z
UID:10000699-1825090200-1825095600@iowalaborers.com
SUMMARY:Local 43 Union Meeting
DESCRIPTION:
URL:https://iowalaborers.com/event/local-43-union-meeting-12/2027-11-01/
LOCATION:Cedar Rapids\, 816 1st Ave NW\, Suite B\, Cedar Rapids\, Iowa\, 52405
END:VEVENT
BEGIN:VEVENT
DTSTART;TZID=America/Chicago:20271104T180000
DTEND;TZID=America/Chicago:20271104T193000
DTSTAMP:20260421T122440
CREATED:20250502T144721Z
LAST-MODIFIED:20251218T233321Z
UID:10001034-1825351200-1825356600@iowalaborers.com
SUMMARY:Local 177 Union Meeting
DESCRIPTION:
URL:https://iowalaborers.com/event/local-177-union-meeting-5/2027-11-04/
LOCATION:Des Moines\, 3400 E. Euclid\, Suite A\, Des Moines\, Iowa\, 50317\, United States
END:VEVENT
BEGIN:VEVENT
DTSTART;TZID=America/Chicago:20271202T180000
DTEND;TZID=America/Chicago:20271202T193000
DTSTAMP:20260421T122440
CREATED:20250502T144721Z
LAST-MODIFIED:20251218T233321Z
UID:10001035-1827770400-1827775800@iowalaborers.com
SUMMARY:Local 177 Union Meeting
DESCRIPTION:
URL:https://iowalaborers.com/event/local-177-union-meeting-5/2027-12-02/
LOCATION:Des Moines\, 3400 E. Euclid\, Suite A\, Des Moines\, Iowa\, 50317\, United States
END:VEVENT
BEGIN:VEVENT
DTSTART;TZID=America/Chicago:20271206T173000
DTEND;TZID=America/Chicago:20271206T190000
DTSTAMP:20260421T122440
CREATED:20250923T143147Z
LAST-MODIFIED:20250923T143147Z
UID:10000700-1828114200-1828119600@iowalaborers.com
SUMMARY:Local 43 Union Meeting
DESCRIPTION:
URL:https://iowalaborers.com/event/local-43-union-meeting-12/2027-12-06/
LOCATION:Cedar Rapids\, 816 1st Ave NW\, Suite B\, Cedar Rapids\, Iowa\, 52405
END:VEVENT
BEGIN:VEVENT
DTSTART;TZID=America/Chicago:20280103T173000
DTEND;TZID=America/Chicago:20280103T190000
DTSTAMP:20260421T122440
CREATED:20250923T143147Z
LAST-MODIFIED:20250923T143147Z
UID:10000701-1830533400-1830538800@iowalaborers.com
SUMMARY:Local 43 Union Meeting
DESCRIPTION:
URL:https://iowalaborers.com/event/local-43-union-meeting-12/2028-01-03/
LOCATION:Cedar Rapids\, 816 1st Ave NW\, Suite B\, Cedar Rapids\, Iowa\, 52405
END:VEVENT
BEGIN:VEVENT
DTSTART;TZID=America/Chicago:20280106T180000
DTEND;TZID=America/Chicago:20280106T193000
DTSTAMP:20260421T122440
CREATED:20250502T144721Z
LAST-MODIFIED:20251218T233321Z
UID:10001036-1830794400-1830799800@iowalaborers.com
SUMMARY:Local 177 Union Meeting
DESCRIPTION:
URL:https://iowalaborers.com/event/local-177-union-meeting-5/2028-01-06/
LOCATION:Des Moines\, 3400 E. Euclid\, Suite A\, Des Moines\, Iowa\, 50317\, United States
END:VEVENT
END:VCALENDAR