BEGIN:VCALENDAR
VERSION:2.0
PRODID:-//Iowa Laborers Education &amp; Training Fund - ECPv6.15.20//NONSGML v1.0//EN
CALSCALE:GREGORIAN
METHOD:PUBLISH
X-WR-CALNAME:Iowa Laborers Education &amp; Training Fund
X-ORIGINAL-URL:https://iowalaborers.com
X-WR-CALDESC:Events for Iowa Laborers Education &amp; Training Fund
REFRESH-INTERVAL;VALUE=DURATION:PT1H
X-Robots-Tag:noindex
X-PUBLISHED-TTL:PT1H
BEGIN:VTIMEZONE
TZID:America/Chicago
BEGIN:DAYLIGHT
TZOFFSETFROM:-0600
TZOFFSETTO:-0500
TZNAME:CDT
DTSTART:20250309T080000
END:DAYLIGHT
BEGIN:STANDARD
TZOFFSETFROM:-0500
TZOFFSETTO:-0600
TZNAME:CST
DTSTART:20251102T070000
END:STANDARD
BEGIN:DAYLIGHT
TZOFFSETFROM:-0600
TZOFFSETTO:-0500
TZNAME:CDT
DTSTART:20260308T080000
END:DAYLIGHT
BEGIN:STANDARD
TZOFFSETFROM:-0500
TZOFFSETTO:-0600
TZNAME:CST
DTSTART:20261101T070000
END:STANDARD
BEGIN:DAYLIGHT
TZOFFSETFROM:-0600
TZOFFSETTO:-0500
TZNAME:CDT
DTSTART:20270314T080000
END:DAYLIGHT
BEGIN:STANDARD
TZOFFSETFROM:-0500
TZOFFSETTO:-0600
TZNAME:CST
DTSTART:20271107T070000
END:STANDARD
END:VTIMEZONE
BEGIN:VEVENT
DTSTART;TZID=America/Chicago:20260803T173000
DTEND;TZID=America/Chicago:20260803T190000
DTSTAMP:20260423T070135
CREATED:20250923T143147Z
LAST-MODIFIED:20250923T143147Z
UID:10000684-1785778200-1785783600@iowalaborers.com
SUMMARY:Local 43 Union Meeting
DESCRIPTION:
URL:https://iowalaborers.com/event/local-43-union-meeting-12/2026-08-03/
LOCATION:Cedar Rapids\, 816 1st Ave NW\, Suite B\, Cedar Rapids\, Iowa\, 52405
END:VEVENT
BEGIN:VEVENT
DTSTART;TZID=America/Chicago:20260806T180000
DTEND;TZID=America/Chicago:20260806T193000
DTSTAMP:20260423T070135
CREATED:20250502T144721Z
LAST-MODIFIED:20251218T233321Z
UID:10000603-1786039200-1786044600@iowalaborers.com
SUMMARY:Local 177 Union Meeting
DESCRIPTION:
URL:https://iowalaborers.com/event/local-177-union-meeting-5/2026-08-06/
LOCATION:Des Moines\, 3400 E. Euclid\, Suite A\, Des Moines\, Iowa\, 50317\, United States
END:VEVENT
END:VCALENDAR