BEGIN:VCALENDAR
VERSION:2.0
PRODID:-//Iowa Laborers Education &amp; Training Fund - ECPv6.15.20//NONSGML v1.0//EN
CALSCALE:GREGORIAN
METHOD:PUBLISH
X-WR-CALNAME:Iowa Laborers Education &amp; Training Fund
X-ORIGINAL-URL:https://iowalaborers.com
X-WR-CALDESC:Events for Iowa Laborers Education &amp; Training Fund
REFRESH-INTERVAL;VALUE=DURATION:PT1H
X-Robots-Tag:noindex
X-PUBLISHED-TTL:PT1H
BEGIN:VTIMEZONE
TZID:America/Chicago
BEGIN:DAYLIGHT
TZOFFSETFROM:-0600
TZOFFSETTO:-0500
TZNAME:CDT
DTSTART:20250309T080000
END:DAYLIGHT
BEGIN:STANDARD
TZOFFSETFROM:-0500
TZOFFSETTO:-0600
TZNAME:CST
DTSTART:20251102T070000
END:STANDARD
BEGIN:DAYLIGHT
TZOFFSETFROM:-0600
TZOFFSETTO:-0500
TZNAME:CDT
DTSTART:20260308T080000
END:DAYLIGHT
BEGIN:STANDARD
TZOFFSETFROM:-0500
TZOFFSETTO:-0600
TZNAME:CST
DTSTART:20261101T070000
END:STANDARD
BEGIN:DAYLIGHT
TZOFFSETFROM:-0600
TZOFFSETTO:-0500
TZNAME:CDT
DTSTART:20270314T080000
END:DAYLIGHT
BEGIN:STANDARD
TZOFFSETFROM:-0500
TZOFFSETTO:-0600
TZNAME:CST
DTSTART:20271107T070000
END:STANDARD
END:VTIMEZONE
BEGIN:VEVENT
DTSTART;VALUE=DATE:20260504
DTEND;VALUE=DATE:20260506
DTSTAMP:20260420T050729
CREATED:20260319T201347Z
LAST-MODIFIED:20260319T201347Z
UID:10001132-1777852800-1778025599@iowalaborers.com
SUMMARY:Silica Awareness
DESCRIPTION:5:00pm – 9:00PM \nRegister here for this class in Indianola\n\n\n                \n                        \n                             \n                        \n                        Name(Required)\n                            \n                            \n                                                    First\n                                                    \n                                                \n                            \n                            \n                                                            Last\n                                                            \n                                                        \n                            \n                        Email(Required)\n                            \n                        Phone(Required)
URL:https://iowalaborers.com/event/silica-awareness-15/
LOCATION:Indianola\, 1707 N 14th St\, Indianola\, Iowa\, 50125
END:VEVENT
BEGIN:VEVENT
DTSTART;VALUE=DATE:20260504
DTEND;VALUE=DATE:20260507
DTSTAMP:20260420T050729
CREATED:20260319T201510Z
LAST-MODIFIED:20260319T212344Z
UID:10001133-1777852800-1778111999@iowalaborers.com
SUMMARY:MSHA - Week 1
DESCRIPTION:5:00pm – 9:00PM \nWeek 1 \nRegister here for this class in Indianola\n\n                \n                        \n                             \n                        \n                        Name(Required)\n                            \n                            \n                                                    First\n                                                    \n                                                \n                            \n                            \n                                                            Last\n                                                            \n                                                        \n                            \n                        Email(Required)\n                            \n                        Phone(Required)
URL:https://iowalaborers.com/event/msha-5/
LOCATION:Indianola\, 1707 N 14th St\, Indianola\, Iowa\, 50125
END:VEVENT
BEGIN:VEVENT
DTSTART;TZID=America/Chicago:20260506T170000
DTEND;TZID=America/Chicago:20260506T210000
DTSTAMP:20260420T050729
CREATED:20260319T201557Z
LAST-MODIFIED:20260319T201557Z
UID:10001134-1778086800-1778101200@iowalaborers.com
SUMMARY:Hazard Communication
DESCRIPTION:Register here for this class in Indianola\n\n                \n                        \n                             \n                        \n                        Name(Required)\n                            \n                            \n                                                    First\n                                                    \n                                                \n                            \n                            \n                                                            Last\n                                                            \n                                                        \n                            \n                        Email(Required)\n                            \n                        Phone(Required)
URL:https://iowalaborers.com/event/hazard-communication-6/
LOCATION:Indianola\, 1707 N 14th St\, Indianola\, Iowa\, 50125
END:VEVENT
BEGIN:VEVENT
DTSTART;VALUE=DATE:20260511
DTEND;VALUE=DATE:20260514
DTSTAMP:20260420T050729
CREATED:20260319T201635Z
LAST-MODIFIED:20260319T212401Z
UID:10001135-1778457600-1778716799@iowalaborers.com
SUMMARY:MSHA - Week 2
DESCRIPTION:5:00pm – 9:00PM \nWeek 2 \nRegister here for this class in Indianola\n\n                \n                        \n                             \n                        \n                        Name(Required)\n                            \n                            \n                                                    First\n                                                    \n                                                \n                            \n                            \n                                                            Last\n                                                            \n                                                        \n                            \n                        Email(Required)\n                            \n                        Phone(Required)
URL:https://iowalaborers.com/event/msha-6/
LOCATION:Indianola\, 1707 N 14th St\, Indianola\, Iowa\, 50125
END:VEVENT
BEGIN:VEVENT
DTSTART;VALUE=DATE:20260511
DTEND;VALUE=DATE:20260515
DTSTAMP:20260420T050729
CREATED:20260319T201716Z
LAST-MODIFIED:20260319T201716Z
UID:10001136-1778457600-1778803199@iowalaborers.com
SUMMARY:Scaffold User/Builder
DESCRIPTION:5:00pm – 9:00PM \nRegister here for this class in Indianola\n\n                \n                        \n                             \n                        \n                        Name(Required)\n                            \n                            \n                                                    First\n                                                    \n                                                \n                            \n                            \n                                                            Last\n                                                            \n                                                        \n                            \n                        Email(Required)\n                            \n                        Phone(Required)
URL:https://iowalaborers.com/event/scaffold-user-builder-7/
LOCATION:Indianola\, 1707 N 14th St\, Indianola\, Iowa\, 50125
END:VEVENT
BEGIN:VEVENT
DTSTART;VALUE=DATE:20260518
DTEND;VALUE=DATE:20260522
DTSTAMP:20260420T050729
CREATED:20260319T201751Z
LAST-MODIFIED:20260319T201751Z
UID:10001137-1779062400-1779407999@iowalaborers.com
SUMMARY:Skid Loader
DESCRIPTION:5:00pm – 9:00PM \nRegister here for this class in Indianola\n\n                \n                        \n                             \n                        \n                        Name(Required)\n                            \n                            \n                                                    First\n                                                    \n                                                \n                            \n                            \n                                                            Last\n                                                            \n                                                        \n                            \n                        Email(Required)\n                            \n                        Phone(Required)
URL:https://iowalaborers.com/event/skid-loader-23/
LOCATION:Indianola\, 1707 N 14th St\, Indianola\, Iowa\, 50125
END:VEVENT
BEGIN:VEVENT
DTSTART;VALUE=DATE:20260518
DTEND;VALUE=DATE:20260522
DTSTAMP:20260420T050729
CREATED:20260319T201835Z
LAST-MODIFIED:20260319T201835Z
UID:10001138-1779062400-1779407999@iowalaborers.com
SUMMARY:Infection Control Risk Management
DESCRIPTION:5:00pm – 9:00PM \nRegister here for this class in Indianola\n\n                \n                        \n                             \n                        \n                        Name(Required)\n                            \n                            \n                                                    First\n                                                    \n                                                \n                            \n                            \n                                                            Last\n                                                            \n                                                        \n                            \n                        Email(Required)\n                            \n                        Phone(Required)
URL:https://iowalaborers.com/event/infection-control-risk-management-2/
LOCATION:Indianola\, 1707 N 14th St\, Indianola\, Iowa\, 50125
END:VEVENT
END:VCALENDAR